BEGIN:VCALENDAR
VERSION:2.0
PRODID:-//Judo CLub Sinzheim e.V. - ECPv6.15.11//NONSGML v1.0//EN
CALSCALE:GREGORIAN
METHOD:PUBLISH
X-WR-CALNAME:Judo CLub Sinzheim e.V.
X-ORIGINAL-URL:https://judo-sinzheim.de
X-WR-CALDESC:Veranstaltungen für Judo CLub Sinzheim e.V.
REFRESH-INTERVAL;VALUE=DURATION:PT1H
X-Robots-Tag:noindex
X-PUBLISHED-TTL:PT1H
BEGIN:VTIMEZONE
TZID:Europe/Berlin
BEGIN:DAYLIGHT
TZOFFSETFROM:+0100
TZOFFSETTO:+0200
TZNAME:CEST
DTSTART:20180325T010000
END:DAYLIGHT
BEGIN:STANDARD
TZOFFSETFROM:+0200
TZOFFSETTO:+0100
TZNAME:CET
DTSTART:20181028T010000
END:STANDARD
BEGIN:DAYLIGHT
TZOFFSETFROM:+0100
TZOFFSETTO:+0200
TZNAME:CEST
DTSTART:20190331T010000
END:DAYLIGHT
BEGIN:STANDARD
TZOFFSETFROM:+0200
TZOFFSETTO:+0100
TZNAME:CET
DTSTART:20191027T010000
END:STANDARD
BEGIN:DAYLIGHT
TZOFFSETFROM:+0100
TZOFFSETTO:+0200
TZNAME:CEST
DTSTART:20200329T010000
END:DAYLIGHT
BEGIN:STANDARD
TZOFFSETFROM:+0200
TZOFFSETTO:+0100
TZNAME:CET
DTSTART:20201025T010000
END:STANDARD
END:VTIMEZONE
BEGIN:VEVENT
DTSTART;TZID=Europe/Berlin:20190119T100000
DTEND;TZID=Europe/Berlin:20190119T150000
DTSTAMP:20260424T192745
CREATED:20180722T161759Z
LAST-MODIFIED:20190111T122249Z
UID:3895-1547892000-1547910000@judo-sinzheim.de
SUMMARY:Reblandrandori Rastatt JJKSV
DESCRIPTION:Reblandrandori + Kata Training 1. – 3. Kyu beim JJKSV Rastatt(ehemals Diana Werke) \n\n\n\n	\n		Karlstraße 23\, 76437 Rastatt\, Deutschland
URL:https://judo-sinzheim.de/event/reblandrandori-beim-jjksv-rastattehemals-diana-werke
LOCATION:JJKSV Rastatt\, Karlstr. 23\, Rastatt\, 76437\, Deutschland
CATEGORIES:Randori,Rebland
GEO:48.85154;8.2107
X-APPLE-STRUCTURED-LOCATION;VALUE=URI;X-ADDRESS=JJKSV Rastatt Karlstr. 23 Rastatt 76437 Deutschland;X-APPLE-RADIUS=500;X-TITLE=Karlstr. 23:geo:8.2107,48.85154
END:VEVENT
END:VCALENDAR