BEGIN:VCALENDAR
VERSION:2.0
PRODID:-//Judo CLub Sinzheim e.V. - ECPv6.15.11//NONSGML v1.0//EN
CALSCALE:GREGORIAN
METHOD:PUBLISH
X-WR-CALNAME:Judo CLub Sinzheim e.V.
X-ORIGINAL-URL:https://judo-sinzheim.de
X-WR-CALDESC:Veranstaltungen für Judo CLub Sinzheim e.V.
REFRESH-INTERVAL;VALUE=DURATION:PT1H
X-Robots-Tag:noindex
X-PUBLISHED-TTL:PT1H
BEGIN:VTIMEZONE
TZID:Europe/Berlin
BEGIN:DAYLIGHT
TZOFFSETFROM:+0100
TZOFFSETTO:+0200
TZNAME:CEST
DTSTART:20170326T010000
END:DAYLIGHT
BEGIN:STANDARD
TZOFFSETFROM:+0200
TZOFFSETTO:+0100
TZNAME:CET
DTSTART:20171029T010000
END:STANDARD
BEGIN:DAYLIGHT
TZOFFSETFROM:+0100
TZOFFSETTO:+0200
TZNAME:CEST
DTSTART:20180325T010000
END:DAYLIGHT
BEGIN:STANDARD
TZOFFSETFROM:+0200
TZOFFSETTO:+0100
TZNAME:CET
DTSTART:20181028T010000
END:STANDARD
BEGIN:DAYLIGHT
TZOFFSETFROM:+0100
TZOFFSETTO:+0200
TZNAME:CEST
DTSTART:20190331T010000
END:DAYLIGHT
BEGIN:STANDARD
TZOFFSETFROM:+0200
TZOFFSETTO:+0100
TZNAME:CET
DTSTART:20191027T010000
END:STANDARD
END:VTIMEZONE
BEGIN:VEVENT
DTSTART;TZID=Europe/Berlin:20181215T100000
DTEND;TZID=Europe/Berlin:20181215T120000
DTSTAMP:20260424T192819
CREATED:20180722T162958Z
LAST-MODIFIED:20180723T164702Z
UID:3899-1544868000-1544875200@judo-sinzheim.de
SUMMARY:Reblandrandori SR Yburg Steinbach *Abschlussveranstaltung*
DESCRIPTION:Meister-Erwin-Straße 5\, 76534 Baden-Baden\, Deutschland
URL:https://judo-sinzheim.de/event/sr-yburg-steinbach-abschlussveranstaltung
LOCATION:Dojo Stadthalle Steinbach\, Meister-Erwin-Str. 5\, Baden-Baden(Steinbach)\, 76534\, Deutschland
CATEGORIES:Randori,Rebland
GEO:48.7297289;8.165288
X-APPLE-STRUCTURED-LOCATION;VALUE=URI;X-ADDRESS=Dojo Stadthalle Steinbach Meister-Erwin-Str. 5 Baden-Baden(Steinbach) 76534 Deutschland;X-APPLE-RADIUS=500;X-TITLE=Meister-Erwin-Str. 5:geo:8.165288,48.7297289
END:VEVENT
END:VCALENDAR